BEGIN:VCALENDAR
VERSION:2.0
PRODID:-//Department Of Education//6d1d6f6b-bc27-4b0e-8444-0114d844c261
BEGIN:VTIMEZONE
TZID:Australia/Sydney
TZURL:http://tzurl.org/zoneinfo-outlook/Australia/Sydney
X-LIC-LOCATION:Australia/Sydney
BEGIN:STANDARD
TZOFFSETFROM:+1100
TZOFFSETTO:+1000
TZNAME:AEST
DTSTART:19700405T030000
RRULE:FREQ=YEARLY;BYMONTH=4;BYDAY=1SU
END:STANDARD
BEGIN:DAYLIGHT
TZOFFSETFROM:+1000
TZOFFSETTO:+1100
TZNAME:AEDT
DTSTART:19701004T020000
RRULE:FREQ=YEARLY;BYMONTH=10;BYDAY=1SU
END:DAYLIGHT
END:VTIMEZONE
CALSCALE:GREGORIAN
X-WR-TIMEZONE:Australia/Sydney
BEGIN:VEVENT
DTSTART;TZID=Australia/Sydney:20201106T073000
DTEND;TZID=Australia/Sydney:20201106T032500
DTSTAMP:20201106T000000Z
UID:b664be99-54ed-4a48-84eb-47a3165a3967
LOCATION:Kingscliff Main Beach
SUMMARY;LANGUAGE=en-us:CHS Beach Volleyball FNC Knockout
SEQUENCE:0
DESCRIPTION:Students will compete in the CHS Beach Volleyball Knockout against other schools from around the Far North Coast. Students will be allowed to swim under the supervision of staff and qualified life guards. Please wear BCHS sports uniform and bring lunch, water bottle, sunscreen and hat. Venue: Kingscliff Main Beach Cost: $10.00 Travel: Bus Staff: Martin Smith and Matthew Harmon
END:VEVENT
TRANSP:TRANSPARENT
END:VCALENDAR
