BEGIN:VCALENDAR
VERSION:2.0
PRODID:-//Department Of Education//af9dc5ca-dc8d-49d4-8486-c13d6bc5cbc3
BEGIN:VTIMEZONE
TZID:Australia/Sydney
TZURL:http://tzurl.org/zoneinfo-outlook/Australia/Sydney
X-LIC-LOCATION:Australia/Sydney
BEGIN:STANDARD
TZOFFSETFROM:+1100
TZOFFSETTO:+1000
TZNAME:AEST
DTSTART:19700405T030000
RRULE:FREQ=YEARLY;BYMONTH=4;BYDAY=1SU
END:STANDARD
BEGIN:DAYLIGHT
TZOFFSETFROM:+1000
TZOFFSETTO:+1100
TZNAME:AEDT
DTSTART:19701004T020000
RRULE:FREQ=YEARLY;BYMONTH=10;BYDAY=1SU
END:DAYLIGHT
END:VTIMEZONE
CALSCALE:GREGORIAN
X-WR-TIMEZONE:Australia/Sydney
BEGIN:VEVENT
DTSTART;VALUE=DATE:20201108
DTEND;VALUE=DATE:20201116
DTSTAMP:20201108T000000Z
UID:aebd15a0-079a-4ff5-81c1-a2d190530e27
LOCATION:BCHS
SUMMARY;LANGUAGE=en-us:NAIDOC Week 2020
SEQUENCE:0
DESCRIPTION:NAIDCOC Week celebrations are held across Australia each July to celebrate the history, culture and achievements of Aboriginal and Torres Strait Islander peoples. Due to the Covid-19 pandemic, the dates have been postponed to November this year. NAIDOC is celebrated not only in Indigenous communities, but by Australians from all walks of life. Further information to come in regards to NAIDOC week events. #NAIDOC2020 #AlwaysWasAlwaysWillBe
END:VEVENT
TRANSP:TRANSPARENT
END:VCALENDAR
