BEGIN:VCALENDAR
VERSION:2.0
PRODID:-//Department Of Education//add536cf-1a8b-40b6-bbbc-9b2b39a51a1b
BEGIN:VTIMEZONE
TZID:Australia/Sydney
TZURL:http://tzurl.org/zoneinfo-outlook/Australia/Sydney
X-LIC-LOCATION:Australia/Sydney
BEGIN:STANDARD
TZOFFSETFROM:+1100
TZOFFSETTO:+1000
TZNAME:AEST
DTSTART:19700405T030000
RRULE:FREQ=YEARLY;BYMONTH=4;BYDAY=1SU
END:STANDARD
BEGIN:DAYLIGHT
TZOFFSETFROM:+1000
TZOFFSETTO:+1100
TZNAME:AEDT
DTSTART:19701004T020000
RRULE:FREQ=YEARLY;BYMONTH=10;BYDAY=1SU
END:DAYLIGHT
END:VTIMEZONE
CALSCALE:GREGORIAN
X-WR-TIMEZONE:Australia/Sydney
BEGIN:VEVENT
DTSTART;TZID=Australia/Sydney:20201123T090000
DTEND;TZID=Australia/Sydney:20201123T103000
DTSTAMP:20201123T000000Z
UID:b2ce0644-6364-4aa9-8c1d-75e5d7a2f53e
LOCATION:BCHS PAS
SUMMARY;LANGUAGE=en-us:Year 9 Mental Health Presentation
SEQUENCE:0
DESCRIPTION:Mental Health presentation for all year 9 students. Of every 30 students in Australia, seven will be dealing with a mental health issue, yet only two will reach out for support, leaving five suffering in silence. Sadly, most young people dealing with mental health issues do not reach out for help, largely due to stigma. The presenters talk about the stigma surrounding mental ill-health and empower young people to reach out for support and help create communities that support young people's mental health and wellbeing. Part of the Stage 5 PDHPE Mental Health Unit. Venue: BCHS PAS Cost: Nil Travel: N/A Staff: John Moore and Martin Smith
END:VEVENT
TRANSP:TRANSPARENT
END:VCALENDAR
