BEGIN:VCALENDAR
VERSION:2.0
PRODID:-//Department Of Education//10d58a6d-bb67-49ee-9925-ab51ab549c3c
BEGIN:VTIMEZONE
TZID:Australia/Sydney
TZURL:http://tzurl.org/zoneinfo-outlook/Australia/Sydney
X-LIC-LOCATION:Australia/Sydney
BEGIN:STANDARD
TZOFFSETFROM:+1100
TZOFFSETTO:+1000
TZNAME:AEST
DTSTART:19700405T030000
RRULE:FREQ=YEARLY;BYMONTH=4;BYDAY=1SU
END:STANDARD
BEGIN:DAYLIGHT
TZOFFSETFROM:+1000
TZOFFSETTO:+1100
TZNAME:AEDT
DTSTART:19701004T020000
RRULE:FREQ=YEARLY;BYMONTH=10;BYDAY=1SU
END:DAYLIGHT
END:VTIMEZONE
CALSCALE:GREGORIAN
X-WR-TIMEZONE:Australia/Sydney
BEGIN:VEVENT
DTSTART;VALUE=DATE:20200827
DTEND;VALUE=DATE:20200828
DTSTAMP:20200827T000000Z
UID:fd1e978f-625e-4890-a54d-8269b6527ea4
LOCATION:BCHS Studio
SUMMARY;LANGUAGE=en-us:HSC Recording
SEQUENCE:0
DESCRIPTION:Year 12 Music students will record backing tracks in the BCHS studio to adhere to NESA restrictions on HSC. Venue: BCHS Cost: Nil Travel: N/A Staff: David Drinkwater
END:VEVENT
TRANSP:TRANSPARENT
END:VCALENDAR
