BEGIN:VCALENDAR
VERSION:2.0
PRODID:-//Department Of Education//dbafadb8-f515-4d1d-a664-2f20351b8f69
BEGIN:VTIMEZONE
TZID:Australia/Sydney
TZURL:http://tzurl.org/zoneinfo-outlook/Australia/Sydney
X-LIC-LOCATION:Australia/Sydney
BEGIN:STANDARD
TZOFFSETFROM:+1100
TZOFFSETTO:+1000
TZNAME:AEST
DTSTART:19700405T030000
RRULE:FREQ=YEARLY;BYMONTH=4;BYDAY=1SU
END:STANDARD
BEGIN:DAYLIGHT
TZOFFSETFROM:+1000
TZOFFSETTO:+1100
TZNAME:AEDT
DTSTART:19701004T020000
RRULE:FREQ=YEARLY;BYMONTH=10;BYDAY=1SU
END:DAYLIGHT
END:VTIMEZONE
CALSCALE:GREGORIAN
X-WR-TIMEZONE:Australia/Sydney
BEGIN:VEVENT
DTSTART;VALUE=DATE:20200828
DTEND;VALUE=DATE:20200829
DTSTAMP:20200828T000000Z
UID:63e01746-dafe-4b80-a55e-c411bec8b4c5
LOCATION:Ballina RSL Memorial Park
SUMMARY;LANGUAGE=en-us:Wreath Laying at Ballina Cenotaph
SEQUENCE:0
DESCRIPTION:Students Leaders from SRC and LEO Club will walk to the Ballina Cenotaph and lay a wreath. They will say a few words in memory of those families who had people who died in war. The students will then return to school. Venue: Ballina RSL Memorial Park Cost: Nil Travel: Walking Staff: Andrew Playford
END:VEVENT
TRANSP:TRANSPARENT
END:VCALENDAR
