BEGIN:VCALENDAR
VERSION:2.0
PRODID:-//Department Of Education//692d3bb8-bb68-4efb-92b6-3c52201a559c
BEGIN:VTIMEZONE
TZID:Australia/Sydney
TZURL:http://tzurl.org/zoneinfo-outlook/Australia/Sydney
X-LIC-LOCATION:Australia/Sydney
BEGIN:STANDARD
TZOFFSETFROM:+1100
TZOFFSETTO:+1000
TZNAME:AEST
DTSTART:19700405T030000
RRULE:FREQ=YEARLY;BYMONTH=4;BYDAY=1SU
END:STANDARD
BEGIN:DAYLIGHT
TZOFFSETFROM:+1000
TZOFFSETTO:+1100
TZNAME:AEDT
DTSTART:19701004T020000
RRULE:FREQ=YEARLY;BYMONTH=10;BYDAY=1SU
END:DAYLIGHT
END:VTIMEZONE
CALSCALE:GREGORIAN
X-WR-TIMEZONE:Australia/Sydney
BEGIN:VEVENT
DTSTART;VALUE=DATE:20200903
DTEND;VALUE=DATE:20200904
DTSTAMP:20200903T000000Z
UID:b29a8754-6797-47f7-916f-be3af1f62b44
LOCATION:BCHS ALC
SUMMARY;LANGUAGE=en-us:Goori Youth Program
SEQUENCE:0
DESCRIPTION:The aim for the Goori Youth Program is to increase engagement, school attendance and improve educational outcomes for ATSI students in the Ballina and Alstonville area focusing on students in grades 7 to 9. This includes a culturally based mentoring service with a male and female mentor available. Students will be required to meet at the ALC during the first break. Venue: BCHS ALC Cost: Nil Travel: N/A Staff: Sarah McDonald
END:VEVENT
TRANSP:TRANSPARENT
END:VCALENDAR
