BEGIN:VCALENDAR
VERSION:2.0
PRODID:-//Department Of Education//a708c758-51eb-4182-9eac-4b67cdd922b3
BEGIN:VTIMEZONE
TZID:Australia/Sydney
TZURL:http://tzurl.org/zoneinfo-outlook/Australia/Sydney
X-LIC-LOCATION:Australia/Sydney
BEGIN:STANDARD
TZOFFSETFROM:+1100
TZOFFSETTO:+1000
TZNAME:AEST
DTSTART:19700405T030000
RRULE:FREQ=YEARLY;BYMONTH=4;BYDAY=1SU
END:STANDARD
BEGIN:DAYLIGHT
TZOFFSETFROM:+1000
TZOFFSETTO:+1100
TZNAME:AEDT
DTSTART:19701004T020000
RRULE:FREQ=YEARLY;BYMONTH=10;BYDAY=1SU
END:DAYLIGHT
END:VTIMEZONE
CALSCALE:GREGORIAN
X-WR-TIMEZONE:Australia/Sydney
BEGIN:VEVENT
DTSTART;VALUE=DATE:20201215
DTEND;VALUE=DATE:20201216
DTSTAMP:20201215T000000Z
UID:7349c511-d3f0-497f-a008-445ca679a225
LOCATION:BCHS
SUMMARY;LANGUAGE=en-us:Stronger Sisters Program
RRULE:FREQ=WEEKLY;INTERVAL=1;UNTIL=20201215;
SEQUENCE:0
DESCRIPTION:The Stronger Sisters program is a small group program for ATSI students. The program will be at BCHS for semester 2, every Tuesday, period 4 and is designed to help students become leaders, strong in their identity and smart in their approach to achieving their goals. Venue: BCHS Cost: Nil Travel: N/A Staff: Raelene Fox and Kaleesha King-Rhodes
END:VEVENT
TRANSP:TRANSPARENT
END:VCALENDAR
