BEGIN:VCALENDAR
VERSION:2.0
PRODID:-//Department Of Education//000f509c-ad40-4786-be4d-6abefaef66fa
BEGIN:VTIMEZONE
TZID:Australia/Sydney
TZURL:http://tzurl.org/zoneinfo-outlook/Australia/Sydney
X-LIC-LOCATION:Australia/Sydney
BEGIN:STANDARD
TZOFFSETFROM:+1100
TZOFFSETTO:+1000
TZNAME:AEST
DTSTART:19700405T030000
RRULE:FREQ=YEARLY;BYMONTH=4;BYDAY=1SU
END:STANDARD
BEGIN:DAYLIGHT
TZOFFSETFROM:+1000
TZOFFSETTO:+1100
TZNAME:AEDT
DTSTART:19701004T020000
RRULE:FREQ=YEARLY;BYMONTH=10;BYDAY=1SU
END:DAYLIGHT
END:VTIMEZONE
CALSCALE:GREGORIAN
X-WR-TIMEZONE:Australia/Sydney
BEGIN:VEVENT
DTSTART;VALUE=DATE:20200904
DTEND;VALUE=DATE:20200905
DTSTAMP:20200904T000000Z
UID:3e7dd6bf-518e-4545-ae1c-fe22fc981a36
LOCATION:Ballina TAFE Campus and Wollongbar TAFE Campus
SUMMARY;LANGUAGE=en-us:TAFE YES PLUS
RRULE:FREQ=WEEKLY;INTERVAL=1;UNTIL=20201120;
SEQUENCE:0
DESCRIPTION:TAFE TASTER courses over 10 weeks. Ballina Campus - Early Childhood / Health & Fitness. Wollongbar Campus - Construction, Electrotechnology and Plumbing. Venue: Ballina TAFE Campus and Wollongbar TAFE Campus Cost: Nil Travel: Students own transport or via Ballina Bus Lines Staff: Donna Ryan
END:VEVENT
TRANSP:TRANSPARENT
END:VCALENDAR
