BEGIN:VCALENDAR
VERSION:2.0
PRODID:-//Department Of Education//0b3b9ee8-d263-402c-a6d8-a0da4fbfd402
BEGIN:VTIMEZONE
TZID:Australia/Sydney
TZURL:http://tzurl.org/zoneinfo-outlook/Australia/Sydney
X-LIC-LOCATION:Australia/Sydney
BEGIN:STANDARD
TZOFFSETFROM:+1100
TZOFFSETTO:+1000
TZNAME:AEST
DTSTART:19700405T030000
RRULE:FREQ=YEARLY;BYMONTH=4;BYDAY=1SU
END:STANDARD
BEGIN:DAYLIGHT
TZOFFSETFROM:+1000
TZOFFSETTO:+1100
TZNAME:AEDT
DTSTART:19701004T020000
RRULE:FREQ=YEARLY;BYMONTH=10;BYDAY=1SU
END:DAYLIGHT
END:VTIMEZONE
CALSCALE:GREGORIAN
X-WR-TIMEZONE:Australia/Sydney
BEGIN:VEVENT
DTSTART;VALUE=DATE:20200904
DTEND;VALUE=DATE:20200905
DTSTAMP:20200904T000000Z
UID:d48083b6-c724-43fa-9a76-ab49af717caf
LOCATION:Ballina TAFE Campus and Wollongbar TAFE Campus
SUMMARY;LANGUAGE=en-us:TAFE Yes Program
RRULE:FREQ=WEEKLY;INTERVAL=1;UNTIL=20201030;
SEQUENCE:0
DESCRIPTION:TAFE TASTER courses over 7 weeks. Ballina Campus - Early Childhood / Health & Fitness. Wollongbar Campus - Construction, Electrotechnology and Plumbing. Venue: Ballina TAFE Campus and Wollongbar TAFE Campus Cost: Nil Travel: Students own transport or via Ballina Bus Lines Staff: Donna Ryan
END:VEVENT
TRANSP:TRANSPARENT
END:VCALENDAR
