BEGIN:VCALENDAR
VERSION:2.0
PRODID:-//Department Of Education//e6623e9a-177b-4d08-b68f-67f1be51bf33
BEGIN:VTIMEZONE
TZID:Australia/Sydney
TZURL:http://tzurl.org/zoneinfo-outlook/Australia/Sydney
X-LIC-LOCATION:Australia/Sydney
BEGIN:STANDARD
TZOFFSETFROM:+1100
TZOFFSETTO:+1000
TZNAME:AEST
DTSTART:19700405T030000
RRULE:FREQ=YEARLY;BYMONTH=4;BYDAY=1SU
END:STANDARD
BEGIN:DAYLIGHT
TZOFFSETFROM:+1000
TZOFFSETTO:+1100
TZNAME:AEDT
DTSTART:19701004T020000
RRULE:FREQ=YEARLY;BYMONTH=10;BYDAY=1SU
END:DAYLIGHT
END:VTIMEZONE
CALSCALE:GREGORIAN
X-WR-TIMEZONE:Australia/Sydney
BEGIN:VEVENT
DTSTART;TZID=Australia/Sydney:20200923T110000
DTEND;TZID=Australia/Sydney:20200923T032500
DTSTAMP:20200923T000000Z
UID:df52202e-6ff3-4e1f-9ce2-f65ab350d6e2
LOCATION:Mullumbimby HS
SUMMARY;LANGUAGE=en-us:TSP Rugby & Netball V Mullumbimby HS
SEQUENCE:0
DESCRIPTION:Inter school competition - * Girls Rugby League 9's * Boys 14s League * Netball Year 7-9 Students are required to wear BCHS TSP uniform and to bring sports equipment, lunch and water. Venue: Mullumbimby HS Cost: Nil Travel: Bus Staff: Cameron McQuahae, Mel Watson, Chloe Hordern
END:VEVENT
TRANSP:TRANSPARENT
END:VCALENDAR
