BEGIN:VCALENDAR
VERSION:2.0
PRODID:-//Department Of Education//3bcba779-354d-4aaa-b916-fcc916545f9c
BEGIN:VTIMEZONE
TZID:Australia/Sydney
TZURL:http://tzurl.org/zoneinfo-outlook/Australia/Sydney
X-LIC-LOCATION:Australia/Sydney
BEGIN:STANDARD
TZOFFSETFROM:+1100
TZOFFSETTO:+1000
TZNAME:AEST
DTSTART:19700405T030000
RRULE:FREQ=YEARLY;BYMONTH=4;BYDAY=1SU
END:STANDARD
BEGIN:DAYLIGHT
TZOFFSETFROM:+1000
TZOFFSETTO:+1100
TZNAME:AEDT
DTSTART:19701004T020000
RRULE:FREQ=YEARLY;BYMONTH=10;BYDAY=1SU
END:DAYLIGHT
END:VTIMEZONE
CALSCALE:GREGORIAN
X-WR-TIMEZONE:Australia/Sydney
BEGIN:VEVENT
DTSTART;TZID=Australia/Sydney:20200916T111000
DTEND;TZID=Australia/Sydney:20200916T032500
DTSTAMP:20200916T000000Z
UID:891e1d96-7f05-40d0-9c35-00f5f7248181
LOCATION:Mullumbimby
SUMMARY;LANGUAGE=en-us:TSP Soccer V Mullumbimby HS
SEQUENCE:0
DESCRIPTION:TSP Soccer v Mullumbimby HS Mixed Year 7-9 side and Boys Year 7-9 side. Games played at 12pm and 1 pm. Return time for Buses 15:25pm Students required to wear TSP BCHS Uniform and to bring soccer equipment, food and water. Venue: Mullumbimby playing fields Cost: Nil Travel: Bus Staff: Harley Schmidt and Jared Smeal
END:VEVENT
TRANSP:TRANSPARENT
END:VCALENDAR
