BEGIN:VCALENDAR
VERSION:2.0
PRODID:-//Department Of Education//64d19917-6295-4f86-b7d4-93c443c4273b
BEGIN:VTIMEZONE
TZID:Australia/Sydney
TZURL:http://tzurl.org/zoneinfo-outlook/Australia/Sydney
X-LIC-LOCATION:Australia/Sydney
BEGIN:STANDARD
TZOFFSETFROM:+1100
TZOFFSETTO:+1000
TZNAME:AEST
DTSTART:19700405T030000
RRULE:FREQ=YEARLY;BYMONTH=4;BYDAY=1SU
END:STANDARD
BEGIN:DAYLIGHT
TZOFFSETFROM:+1000
TZOFFSETTO:+1100
TZNAME:AEDT
DTSTART:19701004T020000
RRULE:FREQ=YEARLY;BYMONTH=10;BYDAY=1SU
END:DAYLIGHT
END:VTIMEZONE
CALSCALE:GREGORIAN
X-WR-TIMEZONE:Australia/Sydney
BEGIN:VEVENT
DTSTART;VALUE=DATE:20200908
DTEND;VALUE=DATE:20200909
DTSTAMP:20200908T000000Z
UID:891ccafe-9666-4b6f-b323-0713077e6584
LOCATION:BCHS PAS
SUMMARY;LANGUAGE=en-us:Year 11 Ancient History Incursion ? ?Teotihuacan?
SEQUENCE:0
DESCRIPTION:Three Ancient History classes (11AH.5, 11AH.A4 and 11AH.A5) will be participating in a Site Study ?Teotihuacan?. Students will create a to-scale model of the site with annotations and group presentations relating to the archaeological data and significance. This will be held in the PAS for a full day. 3 Sessions: - Scale-model build with group work - Research and Presentation session - Film - 'Apocalypto' (MA 15+ permission note will be sent home for viewing - non-returned slips will have students supervised in a separate area.) Pizza lunch will be provided by Jake Parmenter and Jake Gardiner. Venue: BCHS PAS Cost: Nil Travel: N/A Staff: Jacob Gardiner and Jake Parmenter
END:VEVENT
TRANSP:TRANSPARENT
END:VCALENDAR
