BEGIN:VCALENDAR
VERSION:2.0
PRODID:-//Department Of Education//301d96a1-e6b7-43cf-9a91-f2733a44e30f
BEGIN:VTIMEZONE
TZID:Australia/Sydney
TZURL:http://tzurl.org/zoneinfo-outlook/Australia/Sydney
X-LIC-LOCATION:Australia/Sydney
BEGIN:STANDARD
TZOFFSETFROM:+1100
TZOFFSETTO:+1000
TZNAME:AEST
DTSTART:19700405T030000
RRULE:FREQ=YEARLY;BYMONTH=4;BYDAY=1SU
END:STANDARD
BEGIN:DAYLIGHT
TZOFFSETFROM:+1000
TZOFFSETTO:+1100
TZNAME:AEDT
DTSTART:19701004T020000
RRULE:FREQ=YEARLY;BYMONTH=10;BYDAY=1SU
END:DAYLIGHT
END:VTIMEZONE
CALSCALE:GREGORIAN
X-WR-TIMEZONE:Australia/Sydney
BEGIN:VEVENT
DTSTART;VALUE=DATE:20200918
DTEND;VALUE=DATE:20200919
DTSTAMP:20200918T000000Z
UID:d0de8ef6-4f69-4033-8051-7d601fabedd0
LOCATION:BCHS
SUMMARY;LANGUAGE=en-us:Year 7 Vaccinations
SEQUENCE:0
DESCRIPTION:Year 7 vaccination for human papillomavirus (HPV) and diphtheria-tetanus-pertussis (dTpa). Vaccination packs can be collected from the front office and can be mailed out to families on request. Forms need to be completed and returned to school anytime before the 18 September. Venue: BCHS Cost: Nil Travel: N/A Staff: Melissa Gold
END:VEVENT
TRANSP:TRANSPARENT
END:VCALENDAR
